{"text_format":"1","workbook":"xlsx","n_sheets":6,"sheets":["３級・元素記号","３級正解","２級・元素記号","２級正解","１級・元素記号","１級正解"],"not_rendered":{"charts":0,"images":0,"macros":1,"external_links":0,"defined_names":0,"comments":0,"pivot_tables":0},"unopened":[],"bounds":{"document_bytes":16777216,"sheet_cells":100000,"rows_first":2000,"rows_last":500,"rows_between":2000,"halvings":0,"cell_chars":16384,"cell_head_chars":4096},"cells_cut":0,"cells_raw":0,"read":"whole","date_system":"1900"}

{"sheet":"３級・元素記号","index":0,"n_rows":50,"n_cols":20,"rows_kept":50,"cut":false,"hidden":false,"merged":[[0,7,0,11],[13,7,13,9],[0,13,0,17]]}
[null,null,null,null,null,null,null,"3級・元素の周期表",null,null,null,null,null,"に元素記号を記入しなさい"]
[null,null,1,2,3,4,5,6,7,8,9,10,11,12,13,14,15,16,17,18]
[null,1]
[null,2]
[null,3]
[null,4]
[null,5]
[null,6,null,null,"ランタノイド"]
[null,7,null,null,"アクチノイド"]
[]
[null,null,"ランタノイド"]
[null,null,"アクチノイド"]
[]
[null,null,null,null,null,null,null,"3級・正誤表"]
[null,null,1,2,3,4,5,6,7,8,9,10,11,12,13,14,15,16,17,18]
[null,1,{"$f":"'３級正解'!C16","v":"×"},null,null,null,null,null,null,null,null,null,null,null,null,null,null,null,null,{"$f":"'３級正解'!T16","v":"×"}]
[null,2,{"$f":"'３級正解'!C17","v":"×"},{"$f":"'３級正解'!D17","v":"×"},null,null,null,null,null,null,null,null,null,null,{"$f":"'３級正解'!O17","v":"×"},{"$f":"'３級正解'!P17","v":"×"},{"$f":"'３級正解'!Q17","v":"×"},{"$f":"'３級正解'!R17","v":"×"},{"$f":"'３級正解'!S17","v":"×"},{"$f":"'３級正解'!T17","v":"×"}]
[null,3,{"$f":"'３級正解'!C18","v":"×"},{"$f":"'３級正解'!D18","v":"×"},null,null,null,null,null,null,null,null,null,null,{"$f":"'３級正解'!O18","v":"×"},{"$f":"'３級正解'!P18","v":"×"},{"$f":"'３級正解'!Q18","v":"×"},{"$f":"'３級正解'!R18","v":"×"},{"$f":"'３級正解'!S18","v":"×"},{"$f":"'３級正解'!T18","v":"×"}]
[null,4,{"$f":"'３級正解'!C19","v":"×"},{"$f":"'３級正解'!D19","v":"×"},null,null,null,{"$f":"'３級正解'!H19","v":"×"},{"$f":"'３級正解'!I19","v":"×"},{"$f":"'３級正解'!J19","v":"×"},null,null,{"$f":"'３級正解'!M19","v":"×"},{"$f":"'３級正解'!N19","v":"×"},null,null,{"$f":"'３級正解'!Q19","v":"×"},null,{"$f":"'３級正解'!S19","v":"×"},{"$f":"'３級正解'!T19","v":"×"}]
[null,5,null,null,null,null,null,null,null,null,null,null,{"$f":"'３級正解'!M20","v":"×"},{"$f":"'３級正解'!N20","v":"×"},null,{"$f":"'３級正解'!P20","v":"×"},{"$f":"'３級正解'!Q20","v":"×"},null,{"$f":"'３級正解'!S20","v":"×"}]
[null,6,null,{"$f":"'３級正解'!D21","v":"×"},"ランタノイド",null,null,null,null,null,null,{"$f":"'３級正解'!L21","v":"×"},{"$f":"'３級正解'!M21","v":"×"},{"$f":"'３級正解'!N21","v":"×"},null,{"$f":"'３級正解'!P21","v":"×"},{"$f":"'３級正解'!Q21","v":"×"}]
[null,7,null,null,"アクチノイド"]
[]
[null,null,"ランタノイド"]
[null,null,"アクチノイド",null,null,null,null,{"$f":"'３級正解'!H25","v":"×"},null,{"$f":"'３級正解'!J25","v":"×"}]
[]
[]
[null,null,1,2,3,4,5,6,7,8,9,10,11,12,13,14,15,16,17,18]
[null,1]
[null,2]
[null,3]
[null,4]
[null,5]
[null,6,null,null,"ランタノイド"]
[null,7,null,null,"アクチノイド"]
[]
[null,null,"ランタノイド"]
[null,null,"アクチノイド"]
[]
[null,null,1,2,3,4,5,6,7,8,9,10,11,12,13,14,15,16,17,18]
[null,1,"H",null,null,null,null,null,null,null,null,null,null,null,null,null,null,null,null,"He"]
[null,2,"Li","Be",null,null,null,null,null,null,null,null,null,null,"B","C","N","O","F","Ne"]
[null,3,"Na","Mg",null,null,null,null,null,null,null,null,null,null,"Al","Si","P","S","Cl","Ar"]
[null,4,"K","Ca",null,null,null,"Cr","Mn","Fe",null,null,"Cu","Zn",null,null,"As",null,"Br","Kr"]
[null,5,null,null,null,null,null,null,null,null,null,null,"Ag","Cd",null,"Sn","Sb",null,"I"]
[null,6,null,"Ba","ランタノイド",null,null,null,null,null,null,"Pt","Au","Hg",null,"Pb","Bi"]
[null,7,null,null,"アクチノイド"]
[]
[null,null,"ランタノイド"]
[null,null,"アクチノイド",null,null,null,null,"U",null,"Pu"]

{"sheet":"３級正解","index":1,"n_rows":25,"n_cols":20,"rows_kept":25,"cut":false,"hidden":true,"merged":[[0,7,0,11],[13,7,13,9]]}
[null,null,null,null,null,null,null,"3級・元素の周期表"]
[null,null,1,2,3,4,5,6,7,8,9,10,11,12,13,14,15,16,17,18]
[null,1,"H",null,null,null,null,null,null,null,null,null,null,null,null,null,null,null,null,"He"]
[null,2,"Li","Be",null,null,null,null,null,null,null,null,null,null,"B","C","N","O","F","Ne"]
[null,3,"Na","Mg",null,null,null,null,null,null,null,null,null,null,"Al","Si","P","S","Cl","Ar"]
[null,4,"K","Ca",null,null,null,"Cr","Mn","Fe",null,null,"Cu","Zn",null,null,"As",null,"Br","Kr"]
[null,5,null,null,null,null,null,null,null,null,null,null,"Ag","Cd",null,"Sn","Sb",null,"I"]
[null,6,null,"Ba","ランタノイド",null,null,null,null,null,null,"Pt","Au","Hg",null,"Pb","Bi"]
[null,7,null,null,"アクチノイド"]
[]
[null,null,"ランタノイド"]
[null,null,"アクチノイド",null,null,null,null,"U",null,"Pu"]
[]
[null,null,null,null,null,null,null,"3級・正誤表"]
[null,null,1,2,3,4,5,6,7,8,9,10,11,12,13,14,15,16,17,18]
[null,1,{"$f":"IF('３級・元素記号'!C3='３級正解'!C3,\"〇\",\"×\")","v":"×"},null,null,null,null,null,null,null,null,null,null,null,null,null,null,null,null,{"$f":"IF('３級・元素記号'!T3='３級正解'!T3,\"〇\",\"×\")","v":"×"}]
[null,2,{"$f":"IF('３級・元素記号'!C4='３級正解'!C4,\"〇\",\"×\")","v":"×"},{"$f":"IF('３級・元素記号'!D4='３級正解'!D4,\"〇\",\"×\")","v":"×"},null,null,null,null,null,null,null,null,null,null,{"$f":"IF('３級・元素記号'!O4='３級正解'!O4,\"〇\",\"×\")","v":"×"},{"$f":"IF('３級・元素記号'!P4='３級正解'!P4,\"〇\",\"×\")","v":"×"},{"$f":"IF('３級・元素記号'!Q4='３級正解'!Q4,\"〇\",\"×\")","v":"×"},{"$f":"IF('３級・元素記号'!R4='３級正解'!R4,\"〇\",\"×\")","v":"×"},{"$f":"IF('３級・元素記号'!S4='３級正解'!S4,\"〇\",\"×\")","v":"×"},{"$f":"IF('３級・元素記号'!T4='３級正解'!T4,\"〇\",\"×\")","v":"×"}]
[null,3,{"$f":"IF('３級・元素記号'!C5='３級正解'!C5,\"〇\",\"×\")","v":"×"},{"$f":"IF('３級・元素記号'!D5='３級正解'!D5,\"〇\",\"×\")","v":"×"},null,null,null,null,null,null,null,null,null,null,{"$f":"IF('３級・元素記号'!O5='３級正解'!O5,\"〇\",\"×\")","v":"×"},{"$f":"IF('３級・元素記号'!P5='３級正解'!P5,\"〇\",\"×\")","v":"×"},{"$f":"IF('３級・元素記号'!Q5='３級正解'!Q5,\"〇\",\"×\")","v":"×"},{"$f":"IF('３級・元素記号'!R5='３級正解'!R5,\"〇\",\"×\")","v":"×"},{"$f":"IF('３級・元素記号'!S5='３級正解'!S5,\"〇\",\"×\")","v":"×"},{"$f":"IF('３級・元素記号'!T5='３級正解'!T5,\"〇\",\"×\")","v":"×"}]
[null,4,{"$f":"IF('３級・元素記号'!C6='３級正解'!C6,\"〇\",\"×\")","v":"×"},{"$f":"IF('３級・元素記号'!D6='３級正解'!D6,\"〇\",\"×\")","v":"×"},null,null,null,{"$f":"IF('３級・元素記号'!H6='３級正解'!H6,\"〇\",\"×\")","v":"×"},{"$f":"IF('３級・元素記号'!I6='３級正解'!I6,\"〇\",\"×\")","v":"×"},{"$f":"IF('３級・元素記号'!J6='３級正解'!J6,\"〇\",\"×\")","v":"×"},null,null,{"$f":"IF('３級・元素記号'!M6='３級正解'!M6,\"〇\",\"×\")","v":"×"},{"$f":"IF('３級・元素記号'!N6='３級正解'!N6,\"〇\",\"×\")","v":"×"},null,null,{"$f":"IF('３級・元素記号'!Q6='３級正解'!Q6,\"〇\",\"×\")","v":"×"},null,{"$f":"IF('３級・元素記号'!S6='３級正解'!S6,\"〇\",\"×\")","v":"×"},{"$f":"IF('３級・元素記号'!T6='３級正解'!T6,\"〇\",\"×\")","v":"×"}]
[null,5,null,null,null,null,null,null,null,null,null,null,{"$f":"IF('３級・元素記号'!M7='３級正解'!M7,\"〇\",\"×\")","v":"×"},{"$f":"IF('３級・元素記号'!N7='３級正解'!N7,\"〇\",\"×\")","v":"×"},null,{"$f":"IF('３級・元素記号'!P7='３級正解'!P7,\"〇\",\"×\")","v":"×"},{"$f":"IF('３級・元素記号'!Q7='３級正解'!Q7,\"〇\",\"×\")","v":"×"},null,{"$f":"IF('３級・元素記号'!S7='３級正解'!S7,\"〇\",\"×\")","v":"×"}]
[null,6,null,{"$f":"IF('３級・元素記号'!D8='３級正解'!D8,\"〇\",\"×\")","v":"×"},"ランタノイド",null,null,null,null,null,null,{"$f":"IF('３級・元素記号'!L8='３級正解'!L8,\"〇\",\"×\")","v":"×"},{"$f":"IF('３級・元素記号'!M8='３級正解'!M8,\"〇\",\"×\")","v":"×"},{"$f":"IF('３級・元素記号'!N8='３級正解'!N8,\"〇\",\"×\")","v":"×"},null,{"$f":"IF('３級・元素記号'!P8='３級正解'!P8,\"〇\",\"×\")","v":"×"},{"$f":"IF('３級・元素記号'!Q8='３級正解'!Q8,\"〇\",\"×\")","v":"×"}]
[null,7,null,null,"アクチノイド"]
[]
[null,null,"ランタノイド"]
[null,null,"アクチノイド",null,null,null,null,{"$f":"IF('３級・元素記号'!H12='３級正解'!H12,\"〇\",\"×\")","v":"×"},null,{"$f":"IF('３級・元素記号'!J12='３級正解'!J12,\"〇\",\"×\")","v":"×"}]

{"sheet":"２級・元素記号","index":2,"n_rows":49,"n_cols":20,"rows_kept":49,"cut":false,"hidden":false,"merged":[[0,7,0,11],[13,7,13,9],[0,13,0,17]]}
[null,null,null,null,null,null,null,"2級・元素の周期表",null,null,null,null,null,"に元素記号を記入しなさい"]
[null,null,1,2,3,4,5,6,7,8,9,10,11,12,13,14,15,16,17,18]
[null,1]
[null,2]
[null,3]
[null,4]
[null,5]
[null,6,null,null,"ランタノイド"]
[null,7,null,null,"アクチノイド"]
[]
[null,null,"ランタノイド"]
[null,null,"アクチノイド"]
[]
[null,null,null,null,null,null,null,"2級・正誤表"]
[null,null,1,2,3,4,5,6,7,8,9,10,11,12,13,14,15,16,17,18]
[null,1,{"$f":"'２級正解'!C16","v":"×"},null,null,null,null,null,null,null,null,null,null,null,null,null,null,null,null,{"$f":"'２級正解'!T16","v":"×"}]
[null,2,{"$f":"'２級正解'!C17","v":"×"},{"$f":"'２級正解'!D17","v":"×"},null,null,null,null,null,null,null,null,null,null,{"$f":"'２級正解'!O17","v":"×"},{"$f":"'２級正解'!P17","v":"×"},{"$f":"'２級正解'!Q17","v":"×"},{"$f":"'２級正解'!R17","v":"×"},{"$f":"'２級正解'!S17","v":"×"},{"$f":"'２級正解'!T17","v":"×"}]
[null,3,{"$f":"'２級正解'!C18","v":"×"},{"$f":"'２級正解'!D18","v":"×"},null,null,null,null,null,null,null,null,null,null,{"$f":"'２級正解'!O18","v":"×"},{"$f":"'２級正解'!P18","v":"×"},{"$f":"'２級正解'!Q18","v":"×"},{"$f":"'２級正解'!R18","v":"×"},{"$f":"'２級正解'!S18","v":"×"},{"$f":"'２級正解'!T18","v":"×"}]
[null,4,{"$f":"'２級正解'!C19","v":"×"},{"$f":"'２級正解'!D19","v":"×"},{"$f":"'２級正解'!E19","v":"×"},{"$f":"'２級正解'!F19","v":"×"},{"$f":"'２級正解'!G19","v":"×"},{"$f":"'２級正解'!H19","v":"×"},{"$f":"'２級正解'!I19","v":"×"},{"$f":"'２級正解'!J19","v":"×"},{"$f":"'２級正解'!K19","v":"×"},{"$f":"'２級正解'!L19","v":"×"},{"$f":"'２級正解'!M19","v":"×"},{"$f":"'２級正解'!N19","v":"×"},{"$f":"'２級正解'!O19","v":"×"},{"$f":"'２級正解'!P19","v":"×"},{"$f":"'２級正解'!Q19","v":"×"},{"$f":"'２級正解'!R19","v":"×"},{"$f":"'２級正解'!S19","v":"×"},{"$f":"'２級正解'!T19","v":"×"}]
[null,5,{"$f":"'２級正解'!C20","v":"×"},{"$f":"'２級正解'!D20","v":"×"},{"$f":"'２級正解'!E20","v":"×"},{"$f":"'２級正解'!F20","v":"×"},{"$f":"'２級正解'!G20","v":"×"},{"$f":"'２級正解'!H20","v":"×"},{"$f":"'２級正解'!I20","v":"×"},{"$f":"'２級正解'!J20","v":"×"},{"$f":"'２級正解'!K20","v":"×"},{"$f":"'２級正解'!L20","v":"×"},{"$f":"'２級正解'!M20","v":"×"},{"$f":"'２級正解'!N20","v":"×"},{"$f":"'２級正解'!O20","v":"×"},{"$f":"'２級正解'!P20","v":"×"},{"$f":"'２級正解'!Q20","v":"×"},{"$f":"'２級正解'!R20","v":"×"},{"$f":"'２級正解'!S20","v":"×"},{"$f":"'２級正解'!T20","v":"×"}]
[null,6,{"$f":"'２級正解'!C21","v":"×"},{"$f":"'２級正解'!D21","v":"×"},"ランタノイド",null,null,null,null,null,null,{"$f":"'２級正解'!L21","v":"×"},{"$f":"'２級正解'!M21","v":"×"},{"$f":"'２級正解'!N21","v":"×"},null,{"$f":"'２級正解'!P21","v":"×"},{"$f":"'２級正解'!Q21","v":"×"},null,{"$f":"'２級正解'!S21","v":"×"},{"$f":"'２級正解'!T21","v":"×"}]
[null,7,{"$f":"'２級正解'!C22","v":"×"},{"$f":"'２級正解'!D22","v":"×"},"アクチノイド"]
[]
[null,null,"ランタノイド"]
[null,null,"アクチノイド",null,null,null,null,{"$f":"'２級正解'!H25","v":"×"},null,{"$f":"'２級正解'!J25","v":"×"}]
[]
[null,null,1,2,3,4,5,6,7,8,9,10,11,12,13,14,15,16,17,18]
[null,1]
[null,2]
[null,3]
[null,4]
[null,5]
[null,6,null,null,"ランタノイド"]
[null,7,null,null,"アクチノイド"]
[]
[null,null,"ランタノイド"]
[null,null,"アクチノイド"]
[]
[null,null,1,2,3,4,5,6,7,8,9,10,11,12,13,14,15,16,17,18]
[null,1,"H",null,null,null,null,null,null,null,null,null,null,null,null,null,null,null,null,"He"]
[null,2,"Li","Be",null,null,null,null,null,null,null,null,null,null,"B","C","N","O","F","Ne"]
[null,3,"Na","Mg",null,null,null,null,null,null,null,null,null,null,"Al","Si","P","S","Cl","Ar"]
[null,4,"K","Ca","Sc","Ti","V","Cr","Mn","Fe","Co","Ni","Cu","Zn","Ga","Ge","As","Se","Br","Kr"]
[null,5,"Rb","Sr","Y","Zr","Nb","Mo","Tc","Ru","Rh","Pd","Ag","Cd","In","Sn","Sb","Te","I","Xe"]
[null,6,"Cs","Ba","ランタノイド",null,null,null,null,null,null,"Pt","Au","Hg",null,"Pb","Bi",null,"At","Rn"]
[null,7,"Fr","Ra","アクチノイド"]
[]
[null,null,"ランタノイド"]
[null,null,"アクチノイド",null,null,null,null,"U",null,"Pu"]

{"sheet":"２級正解","index":3,"n_rows":25,"n_cols":20,"rows_kept":25,"cut":false,"hidden":true,"merged":[[0,7,0,11],[13,7,13,9]]}
[null,null,null,null,null,null,null,"2級・元素の周期表"]
[null,null,1,2,3,4,5,6,7,8,9,10,11,12,13,14,15,16,17,18]
[null,1,"H",null,null,null,null,null,null,null,null,null,null,null,null,null,null,null,null,"He"]
[null,2,"Li","Be",null,null,null,null,null,null,null,null,null,null,"B","C","N","O","F","Ne"]
[null,3,"Na","Mg",null,null,null,null,null,null,null,null,null,null,"Al","Si","P","S","Cl","Ar"]
[null,4,"K","Ca","Sc","Ti","V","Cr","Mn","Fe","Co","Ni","Cu","Zn","Ga","Ge","As","Se","Br","Kr"]
[null,5,"Rb","Sr","Y","Zr","Nb","Mo","Tc","Ru","Rh","Pd","Ag","Cd","In","Sn","Sb","Te","I","Xe"]
[null,6,"Cs","Ba","ランタノイド",null,null,null,null,null,null,"Pt","Au","Hg",null,"Pb","Bi",null,"At","Rn"]
[null,7,"Fr","Ra","アクチノイド"]
[]
[null,null,"ランタノイド"]
[null,null,"アクチノイド",null,null,null,null,"U",null,"Pu"]
[]
[null,null,null,null,null,null,null,"2級・正誤表"]
[null,null,1,2,3,4,5,6,7,8,9,10,11,12,13,14,15,16,17,18]
[null,1,{"$f":"IF('２級・元素記号'!C3='２級正解'!C3,\"〇\",\"×\")","v":"×"},null,null,null,null,null,null,null,null,null,null,null,null,null,null,null,null,{"$f":"IF('２級・元素記号'!T3='２級正解'!T3,\"〇\",\"×\")","v":"×"}]
[null,2,{"$f":"IF('２級・元素記号'!C4='２級正解'!C4,\"〇\",\"×\")","v":"×"},{"$f":"IF('２級・元素記号'!D4='２級正解'!D4,\"〇\",\"×\")","v":"×"},null,null,null,null,null,null,null,null,null,null,{"$f":"IF('２級・元素記号'!O4='２級正解'!O4,\"〇\",\"×\")","v":"×"},{"$f":"IF('２級・元素記号'!P4='２級正解'!P4,\"〇\",\"×\")","v":"×"},{"$f":"IF('２級・元素記号'!Q4='２級正解'!Q4,\"〇\",\"×\")","v":"×"},{"$f":"IF('２級・元素記号'!R4='２級正解'!R4,\"〇\",\"×\")","v":"×"},{"$f":"IF('２級・元素記号'!S4='２級正解'!S4,\"〇\",\"×\")","v":"×"},{"$f":"IF('２級・元素記号'!T4='２級正解'!T4,\"〇\",\"×\")","v":"×"}]
[null,3,{"$f":"IF('２級・元素記号'!C5='２級正解'!C5,\"〇\",\"×\")","v":"×"},{"$f":"IF('２級・元素記号'!D5='２級正解'!D5,\"〇\",\"×\")","v":"×"},null,null,null,null,null,null,null,null,null,null,{"$f":"IF('２級・元素記号'!O5='２級正解'!O5,\"〇\",\"×\")","v":"×"},{"$f":"IF('２級・元素記号'!P5='２級正解'!P5,\"〇\",\"×\")","v":"×"},{"$f":"IF('２級・元素記号'!Q5='２級正解'!Q5,\"〇\",\"×\")","v":"×"},{"$f":"IF('２級・元素記号'!R5='２級正解'!R5,\"〇\",\"×\")","v":"×"},{"$f":"IF('２級・元素記号'!S5='２級正解'!S5,\"〇\",\"×\")","v":"×"},{"$f":"IF('２級・元素記号'!T5='２級正解'!T5,\"〇\",\"×\")","v":"×"}]
[null,4,{"$f":"IF('２級・元素記号'!C6='２級正解'!C6,\"〇\",\"×\")","v":"×"},{"$f":"IF('２級・元素記号'!D6='２級正解'!D6,\"〇\",\"×\")","v":"×"},{"$f":"IF('２級・元素記号'!E6='２級正解'!E6,\"〇\",\"×\")","v":"×"},{"$f":"IF('２級・元素記号'!F6='２級正解'!F6,\"〇\",\"×\")","v":"×"},{"$f":"IF('２級・元素記号'!G6='２級正解'!G6,\"〇\",\"×\")","v":"×"},{"$f":"IF('２級・元素記号'!H6='２級正解'!H6,\"〇\",\"×\")","v":"×"},{"$f":"IF('２級・元素記号'!I6='２級正解'!I6,\"〇\",\"×\")","v":"×"},{"$f":"IF('２級・元素記号'!J6='２級正解'!J6,\"〇\",\"×\")","v":"×"},{"$f":"IF('２級・元素記号'!K6='２級正解'!K6,\"〇\",\"×\")","v":"×"},{"$f":"IF('２級・元素記号'!L6='２級正解'!L6,\"〇\",\"×\")","v":"×"},{"$f":"IF('２級・元素記号'!M6='２級正解'!M6,\"〇\",\"×\")","v":"×"},{"$f":"IF('２級・元素記号'!N6='２級正解'!N6,\"〇\",\"×\")","v":"×"},{"$f":"IF('２級・元素記号'!O6='２級正解'!O6,\"〇\",\"×\")","v":"×"},{"$f":"IF('２級・元素記号'!P6='２級正解'!P6,\"〇\",\"×\")","v":"×"},{"$f":"IF('２級・元素記号'!Q6='２級正解'!Q6,\"〇\",\"×\")","v":"×"},{"$f":"IF('２級・元素記号'!R6='２級正解'!R6,\"〇\",\"×\")","v":"×"},{"$f":"IF('２級・元素記号'!S6='２級正解'!S6,\"〇\",\"×\")","v":"×"},{"$f":"IF('２級・元素記号'!T6='２級正解'!T6,\"〇\",\"×\")","v":"×"}]
[null,5,{"$f":"IF('２級・元素記号'!C7='２級正解'!C7,\"〇\",\"×\")","v":"×"},{"$f":"IF('２級・元素記号'!D7='２級正解'!D7,\"〇\",\"×\")","v":"×"},{"$f":"IF('２級・元素記号'!E7='２級正解'!E7,\"〇\",\"×\")","v":"×"},{"$f":"IF('２級・元素記号'!F7='２級正解'!F7,\"〇\",\"×\")","v":"×"},{"$f":"IF('２級・元素記号'!G7='２級正解'!G7,\"〇\",\"×\")","v":"×"},{"$f":"IF('２級・元素記号'!H7='２級正解'!H7,\"〇\",\"×\")","v":"×"},{"$f":"IF('２級・元素記号'!I7='２級正解'!I7,\"〇\",\"×\")","v":"×"},{"$f":"IF('２級・元素記号'!J7='２級正解'!J7,\"〇\",\"×\")","v":"×"},{"$f":"IF('２級・元素記号'!K7='２級正解'!K7,\"〇\",\"×\")","v":"×"},{"$f":"IF('２級・元素記号'!L7='２級正解'!L7,\"〇\",\"×\")","v":"×"},{"$f":"IF('２級・元素記号'!M7='２級正解'!M7,\"〇\",\"×\")","v":"×"},{"$f":"IF('２級・元素記号'!N7='２級正解'!N7,\"〇\",\"×\")","v":"×"},{"$f":"IF('２級・元素記号'!O7='２級正解'!O7,\"〇\",\"×\")","v":"×"},{"$f":"IF('２級・元素記号'!P7='２級正解'!P7,\"〇\",\"×\")","v":"×"},{"$f":"IF('２級・元素記号'!Q7='２級正解'!Q7,\"〇\",\"×\")","v":"×"},{"$f":"IF('２級・元素記号'!R7='２級正解'!R7,\"〇\",\"×\")","v":"×"},{"$f":"IF('２級・元素記号'!S7='２級正解'!S7,\"〇\",\"×\")","v":"×"},{"$f":"IF('２級・元素記号'!T7='２級正解'!T7,\"〇\",\"×\")","v":"×"}]
[null,6,{"$f":"IF('２級・元素記号'!C8='２級正解'!C8,\"〇\",\"×\")","v":"×"},{"$f":"IF('２級・元素記号'!D8='２級正解'!D8,\"〇\",\"×\")","v":"×"},"ランタノイド",null,null,null,null,null,null,{"$f":"IF('２級・元素記号'!L8='２級正解'!L8,\"〇\",\"×\")","v":"×"},{"$f":"IF('２級・元素記号'!M8='２級正解'!M8,\"〇\",\"×\")","v":"×"},{"$f":"IF('２級・元素記号'!N8='２級正解'!N8,\"〇\",\"×\")","v":"×"},null,{"$f":"IF('２級・元素記号'!P8='２級正解'!P8,\"〇\",\"×\")","v":"×"},{"$f":"IF('２級・元素記号'!Q8='２級正解'!Q8,\"〇\",\"×\")","v":"×"},null,{"$f":"IF('２級・元素記号'!S8='２級正解'!S8,\"〇\",\"×\")","v":"×"},{"$f":"IF('２級・元素記号'!T8='２級正解'!T8,\"〇\",\"×\")","v":"×"}]
[null,7,{"$f":"IF('２級・元素記号'!C9='２級正解'!C9,\"〇\",\"×\")","v":"×"},{"$f":"IF('２級・元素記号'!D9='２級正解'!D9,\"〇\",\"×\")","v":"×"},"アクチノイド"]
[]
[null,null,"ランタノイド"]
[null,null,"アクチノイド",null,null,null,null,{"$f":"IF('２級・元素記号'!H12='２級正解'!H12,\"〇\",\"×\")","v":"×"},null,{"$f":"IF('２級・元素記号'!J12='２級正解'!J12,\"〇\",\"×\")","v":"×"}]

{"sheet":"１級・元素記号","index":4,"n_rows":49,"n_cols":20,"rows_kept":49,"cut":false,"hidden":false,"merged":[[0,7,0,11],[13,7,13,9],[0,13,0,17]]}
[null,null,null,null,null,null,null,"1級・元素の周期表",null,null,null,null,null,"に元素記号を記入しなさい"]
[null,null,1,2,3,4,5,6,7,8,9,10,11,12,13,14,15,16,17,18]
[null,1]
[null,2]
[null,3]
[null,4]
[null,5]
[null,6,null,null,"ランタノイド"]
[null,7,null,null,"アクチノイド"]
[]
[null,null,"ランタノイド"]
[null,null,"アクチノイド"]
[]
[null,null,null,null,null,null,null,"1級・正誤表"]
[null,null,1,2,3,4,5,6,7,8,9,10,11,12,13,14,15,16,17,18]
[null,1,{"$f":"'１級正解'!C16","v":"×"},null,null,null,null,null,null,null,null,null,null,null,null,null,null,null,null,{"$f":"'１級正解'!T16","v":"×"}]
[null,2,{"$f":"'１級正解'!C17","v":"×"},{"$f":"'１級正解'!D17","v":"×"},null,null,null,null,null,null,null,null,null,null,{"$f":"'１級正解'!O17","v":"×"},{"$f":"'１級正解'!P17","v":"×"},{"$f":"'１級正解'!Q17","v":"×"},{"$f":"'１級正解'!R17","v":"×"},{"$f":"'１級正解'!S17","v":"×"},{"$f":"'１級正解'!T17","v":"×"}]
[null,3,{"$f":"'１級正解'!C18","v":"×"},{"$f":"'１級正解'!D18","v":"×"},null,null,null,null,null,null,null,null,null,null,{"$f":"'１級正解'!O18","v":"×"},{"$f":"'１級正解'!P18","v":"×"},{"$f":"'１級正解'!Q18","v":"×"},{"$f":"'１級正解'!R18","v":"×"},{"$f":"'１級正解'!S18","v":"×"},{"$f":"'１級正解'!T18","v":"×"}]
[null,4,{"$f":"'１級正解'!C19","v":"×"},{"$f":"'１級正解'!D19","v":"×"},{"$f":"'１級正解'!E19","v":"×"},{"$f":"'１級正解'!F19","v":"×"},{"$f":"'１級正解'!G19","v":"×"},{"$f":"'１級正解'!H19","v":"×"},{"$f":"'１級正解'!I19","v":"×"},{"$f":"'１級正解'!J19","v":"×"},{"$f":"'１級正解'!K19","v":"×"},{"$f":"'１級正解'!L19","v":"×"},{"$f":"'１級正解'!M19","v":"×"},{"$f":"'１級正解'!N19","v":"×"},{"$f":"'１級正解'!O19","v":"×"},{"$f":"'１級正解'!P19","v":"×"},{"$f":"'１級正解'!Q19","v":"×"},{"$f":"'１級正解'!R19","v":"×"},{"$f":"'１級正解'!S19","v":"×"},{"$f":"'１級正解'!T19","v":"×"}]
[null,5,{"$f":"'１級正解'!C20","v":"×"},{"$f":"'１級正解'!D20","v":"×"},{"$f":"'１級正解'!E20","v":"×"},{"$f":"'１級正解'!F20","v":"×"},{"$f":"'１級正解'!G20","v":"×"},{"$f":"'１級正解'!H20","v":"×"},{"$f":"'１級正解'!I20","v":"×"},{"$f":"'１級正解'!J20","v":"×"},{"$f":"'１級正解'!K20","v":"×"},{"$f":"'１級正解'!L20","v":"×"},{"$f":"'１級正解'!M20","v":"×"},{"$f":"'１級正解'!N20","v":"×"},{"$f":"'１級正解'!O20","v":"×"},{"$f":"'１級正解'!P20","v":"×"},{"$f":"'１級正解'!Q20","v":"×"},{"$f":"'１級正解'!R20","v":"×"},{"$f":"'１級正解'!S20","v":"×"},{"$f":"'１級正解'!T20","v":"×"}]
[null,6,{"$f":"'１級正解'!C21","v":"×"},{"$f":"'１級正解'!D21","v":"×"},"ランタノイド",{"$f":"'１級正解'!F21","v":"×"},{"$f":"'１級正解'!G21","v":"×"},{"$f":"'１級正解'!H21","v":"×"},{"$f":"'１級正解'!I21","v":"×"},{"$f":"'１級正解'!J21","v":"×"},{"$f":"'１級正解'!K21","v":"×"},{"$f":"'１級正解'!L21","v":"×"},{"$f":"'１級正解'!M21","v":"×"},{"$f":"'１級正解'!N21","v":"×"},{"$f":"'１級正解'!O21","v":"×"},{"$f":"'１級正解'!P21","v":"×"},{"$f":"'１級正解'!Q21","v":"×"},{"$f":"'１級正解'!R21","v":"×"},{"$f":"'１級正解'!S21","v":"×"},{"$f":"'１級正解'!T21","v":"×"}]
[null,7,{"$f":"'１級正解'!C22","v":"×"},{"$f":"'１級正解'!D22","v":"×"},"アクチノイド",{"$f":"'１級正解'!F22","v":"×"},{"$f":"'１級正解'!G22","v":"×"},{"$f":"'１級正解'!H22","v":"×"},{"$f":"'１級正解'!I22","v":"×"},{"$f":"'１級正解'!J22","v":"×"},{"$f":"'１級正解'!K22","v":"×"},{"$f":"'１級正解'!L22","v":"×"},{"$f":"'１級正解'!M22","v":"×"},{"$f":"'１級正解'!N22","v":"×"},{"$f":"'１級正解'!O22","v":"×"},{"$f":"'１級正解'!P22","v":"×"},{"$f":"'１級正解'!Q22","v":"×"},{"$f":"'１級正解'!R22","v":"×"},{"$f":"'１級正解'!S22","v":"×"},{"$f":"'１級正解'!T22","v":"×"}]
[]
[null,null,"ランタノイド",null,{"$f":"'１級正解'!E24","v":"×"},{"$f":"'１級正解'!F24","v":"×"},{"$f":"'１級正解'!G24","v":"×"},{"$f":"'１級正解'!H24","v":"×"},{"$f":"'１級正解'!I24","v":"×"},{"$f":"'１級正解'!J24","v":"×"},{"$f":"'１級正解'!K24","v":"×"},{"$f":"'１級正解'!L24","v":"×"},{"$f":"'１級正解'!M24","v":"×"},{"$f":"'１級正解'!N24","v":"×"},{"$f":"'１級正解'!O24","v":"×"},{"$f":"'１級正解'!P24","v":"×"},{"$f":"'１級正解'!Q24","v":"×"},{"$f":"'１級正解'!R24","v":"×"},{"$f":"'１級正解'!S24","v":"×"}]
[null,null,"アクチノイド",null,{"$f":"'１級正解'!E25","v":"×"},{"$f":"'１級正解'!F25","v":"×"},{"$f":"'１級正解'!G25","v":"×"},{"$f":"'１級正解'!H25","v":"×"},{"$f":"'１級正解'!I25","v":"×"},{"$f":"'１級正解'!J25","v":"×"},{"$f":"'１級正解'!K25","v":"×"},{"$f":"'１級正解'!L25","v":"×"},{"$f":"'１級正解'!M25","v":"×"},{"$f":"'１級正解'!N25","v":"×"},{"$f":"'１級正解'!O25","v":"×"},{"$f":"'１級正解'!P25","v":"×"},{"$f":"'１級正解'!Q25","v":"×"},{"$f":"'１級正解'!R25","v":"×"},{"$f":"'１級正解'!S25","v":"×"}]
[]
[null,null,1,2,3,4,5,6,7,8,9,10,11,12,13,14,15,16,17,18]
[null,1]
[null,2]
[null,3]
[null,4]
[null,5]
[null,6,null,null,"ランタノイド"]
[null,7,null,null,"アクチノイド"]
[]
[null,null,"ランタノイド"]
[null,null,"アクチノイド"]
[]
[null,null,1,2,3,4,5,6,7,8,9,10,11,12,13,14,15,16,17,18]
[null,1,"H",null,null,null,null,null,null,null,null,null,null,null,null,null,null,null,null,"He"]
[null,2,"Li","Be",null,null,null,null,null,null,null,null,null,null,"B","C","N","O","F","Ne"]
[null,3,"Na","Mg",null,null,null,null,null,null,null,null,null,null,"Al","Si","P","S","Cl","Ar"]
[null,4,"K","Ca","Sc","Ti","V","Cr","Mn","Fe","Co","Ni","Cu","Zn","Ga","Ge","As","Se","Br","Kr"]
[null,5,"Rb","Sr","Y","Zr","Nb","Mo","Tc","Ru","Rh","Pd","Ag","Cd","In","Sn","Sb","Te","I","Xe"]
[null,6,"Cs","Ba","ランタノイド","Hf","Ta","W","Re","Os","Ir","Pt","Au","Hg","Tl","Pb","Bi","Po","At","Rn"]
[null,7,"Fr","Ra","アクチノイド","Rf","Db","Sg","Bh","Hs","Mt","Ds","Rg","Cn","Nh","Fl","Mc","Lv","Ts","Og"]
[]
[null,null,"ランタノイド",null,"La","Ce","Pr","Nd","Pm","Sm","Eu","Gd","Tb","Dy","Ho","Er","Tm","Yb","Lu"]
[null,null,"アクチノイド",null,"Ac","Th","Pa","U","Np","Pu","Am","Cm","Bk","Cf","Es","Fm","Md","No","Lr"]

{"sheet":"１級正解","index":5,"n_rows":38,"n_cols":20,"rows_kept":38,"cut":false,"hidden":true,"merged":[[0,7,0,11],[13,7,13,9]]}
[null,null,null,null,null,null,null,"1級・元素の周期表"]
[null,null,1,2,3,4,5,6,7,8,9,10,11,12,13,14,15,16,17,18]
[null,1,"H",null,null,null,null,null,null,null,null,null,null,null,null,null,null,null,null,"He"]
[null,2,"Li","Be",null,null,null,null,null,null,null,null,null,null,"B","C","N","O","F","Ne"]
[null,3,"Na","Mg",null,null,null,null,null,null,null,null,null,null,"Al","Si","P","S","Cl","Ar"]
[null,4,"K","Ca","Sc","Ti","V","Cr","Mn","Fe","Co","Ni","Cu","Zn","Ga","Ge","As","Se","Br","Kr"]
[null,5,"Rb","Sr","Y","Zr","Nb","Mo","Tc","Ru","Rh","Pd","Ag","Cd","In","Sn","Sb","Te","I","Xe"]
[null,6,"Cs","Ba","ランタノイド","Hf","Ta","W","Re","Os","Ir","Pt","Au","Hg","Tl","Pb","Bi","Po","At","Rn"]
[null,7,"Fr","Ra","アクチノイド","Rf","Db","Sg","Bh","Hs","Mt","Ds","Rg","Cn","Nh","Fl","Mc","Lv","Ts","Og"]
[]
[null,null,"ランタノイド",null,"La","Ce","Pr","Nd","Pm","Sm","Eu","Gd","Tb","Dy","Ho","Er","Tm","Yb","Lu"]
[null,null,"アクチノイド",null,"Ac","Th","Pa","U","Np","Pu","Am","Cm","Bk","Cf","Es","Fm","Md","No","Lr"]
[]
[null,null,null,null,null,null,null,"1級・正誤表"]
[null,null,1,2,3,4,5,6,7,8,9,10,11,12,13,14,15,16,17,18]
[null,1,{"$f":"IF('１級・元素記号'!C3='１級正解'!C3,\"〇\",\"×\")","v":"×"},null,null,null,null,null,null,null,null,null,null,null,null,null,null,null,null,{"$f":"IF('１級・元素記号'!T3='１級正解'!T3,\"〇\",\"×\")","v":"×"}]
[null,2,{"$f":"IF('１級・元素記号'!C4='１級正解'!C4,\"〇\",\"×\")","v":"×"},{"$f":"IF('１級・元素記号'!D4='１級正解'!D4,\"〇\",\"×\")","v":"×"},null,null,null,null,null,null,null,null,null,null,{"$f":"IF('１級・元素記号'!O4='１級正解'!O4,\"〇\",\"×\")","v":"×"},{"$f":"IF('１級・元素記号'!P4='１級正解'!P4,\"〇\",\"×\")","v":"×"},{"$f":"IF('１級・元素記号'!Q4='１級正解'!Q4,\"〇\",\"×\")","v":"×"},{"$f":"IF('１級・元素記号'!R4='１級正解'!R4,\"〇\",\"×\")","v":"×"},{"$f":"IF('１級・元素記号'!S4='１級正解'!S4,\"〇\",\"×\")","v":"×"},{"$f":"IF('１級・元素記号'!T4='１級正解'!T4,\"〇\",\"×\")","v":"×"}]
[null,3,{"$f":"IF('１級・元素記号'!C5='１級正解'!C5,\"〇\",\"×\")","v":"×"},{"$f":"IF('１級・元素記号'!D5='１級正解'!D5,\"〇\",\"×\")","v":"×"},null,null,null,null,null,null,null,null,null,null,{"$f":"IF('１級・元素記号'!O5='１級正解'!O5,\"〇\",\"×\")","v":"×"},{"$f":"IF('１級・元素記号'!P5='１級正解'!P5,\"〇\",\"×\")","v":"×"},{"$f":"IF('１級・元素記号'!Q5='１級正解'!Q5,\"〇\",\"×\")","v":"×"},{"$f":"IF('１級・元素記号'!R5='１級正解'!R5,\"〇\",\"×\")","v":"×"},{"$f":"IF('１級・元素記号'!S5='１級正解'!S5,\"〇\",\"×\")","v":"×"},{"$f":"IF('１級・元素記号'!T5='１級正解'!T5,\"〇\",\"×\")","v":"×"}]
[null,4,{"$f":"IF('１級・元素記号'!C6='１級正解'!C6,\"〇\",\"×\")","v":"×"},{"$f":"IF('１級・元素記号'!D6='１級正解'!D6,\"〇\",\"×\")","v":"×"},{"$f":"IF('１級・元素記号'!E6='１級正解'!E6,\"〇\",\"×\")","v":"×"},{"$f":"IF('１級・元素記号'!F6='１級正解'!F6,\"〇\",\"×\")","v":"×"},{"$f":"IF('１級・元素記号'!G6='１級正解'!G6,\"〇\",\"×\")","v":"×"},{"$f":"IF('１級・元素記号'!H6='１級正解'!H6,\"〇\",\"×\")","v":"×"},{"$f":"IF('１級・元素記号'!I6='１級正解'!I6,\"〇\",\"×\")","v":"×"},{"$f":"IF('１級・元素記号'!J6='１級正解'!J6,\"〇\",\"×\")","v":"×"},{"$f":"IF('１級・元素記号'!K6='１級正解'!K6,\"〇\",\"×\")","v":"×"},{"$f":"IF('１級・元素記号'!L6='１級正解'!L6,\"〇\",\"×\")","v":"×"},{"$f":"IF('１級・元素記号'!M6='１級正解'!M6,\"〇\",\"×\")","v":"×"},{"$f":"IF('１級・元素記号'!N6='１級正解'!N6,\"〇\",\"×\")","v":"×"},{"$f":"IF('１級・元素記号'!O6='１級正解'!O6,\"〇\",\"×\")","v":"×"},{"$f":"IF('１級・元素記号'!P6='１級正解'!P6,\"〇\",\"×\")","v":"×"},{"$f":"IF('１級・元素記号'!Q6='１級正解'!Q6,\"〇\",\"×\")","v":"×"},{"$f":"IF('１級・元素記号'!R6='１級正解'!R6,\"〇\",\"×\")","v":"×"},{"$f":"IF('１級・元素記号'!S6='１級正解'!S6,\"〇\",\"×\")","v":"×"},{"$f":"IF('１級・元素記号'!T6='１級正解'!T6,\"〇\",\"×\")","v":"×"}]
[null,5,{"$f":"IF('１級・元素記号'!C7='１級正解'!C7,\"〇\",\"×\")","v":"×"},{"$f":"IF('１級・元素記号'!D7='１級正解'!D7,\"〇\",\"×\")","v":"×"},{"$f":"IF('１級・元素記号'!E7='１級正解'!E7,\"〇\",\"×\")","v":"×"},{"$f":"IF('１級・元素記号'!F7='１級正解'!F7,\"〇\",\"×\")","v":"×"},{"$f":"IF('１級・元素記号'!G7='１級正解'!G7,\"〇\",\"×\")","v":"×"},{"$f":"IF('１級・元素記号'!H7='１級正解'!H7,\"〇\",\"×\")","v":"×"},{"$f":"IF('１級・元素記号'!I7='１級正解'!I7,\"〇\",\"×\")","v":"×"},{"$f":"IF('１級・元素記号'!J7='１級正解'!J7,\"〇\",\"×\")","v":"×"},{"$f":"IF('１級・元素記号'!K7='１級正解'!K7,\"〇\",\"×\")","v":"×"},{"$f":"IF('１級・元素記号'!L7='１級正解'!L7,\"〇\",\"×\")","v":"×"},{"$f":"IF('１級・元素記号'!M7='１級正解'!M7,\"〇\",\"×\")","v":"×"},{"$f":"IF('１級・元素記号'!N7='１級正解'!N7,\"〇\",\"×\")","v":"×"},{"$f":"IF('１級・元素記号'!O7='１級正解'!O7,\"〇\",\"×\")","v":"×"},{"$f":"IF('１級・元素記号'!P7='１級正解'!P7,\"〇\",\"×\")","v":"×"},{"$f":"IF('１級・元素記号'!Q7='１級正解'!Q7,\"〇\",\"×\")","v":"×"},{"$f":"IF('１級・元素記号'!R7='１級正解'!R7,\"〇\",\"×\")","v":"×"},{"$f":"IF('１級・元素記号'!S7='１級正解'!S7,\"〇\",\"×\")","v":"×"},{"$f":"IF('１級・元素記号'!T7='１級正解'!T7,\"〇\",\"×\")","v":"×"}]
[null,6,{"$f":"IF('１級・元素記号'!C8='１級正解'!C8,\"〇\",\"×\")","v":"×"},{"$f":"IF('１級・元素記号'!D8='１級正解'!D8,\"〇\",\"×\")","v":"×"},"ランタノイド",{"$f":"IF('１級・元素記号'!F8='１級正解'!F8,\"〇\",\"×\")","v":"×"},{"$f":"IF('１級・元素記号'!G8='１級正解'!G8,\"〇\",\"×\")","v":"×"},{"$f":"IF('１級・元素記号'!H8='１級正解'!H8,\"〇\",\"×\")","v":"×"},{"$f":"IF('１級・元素記号'!I8='１級正解'!I8,\"〇\",\"×\")","v":"×"},{"$f":"IF('１級・元素記号'!J8='１級正解'!J8,\"〇\",\"×\")","v":"×"},{"$f":"IF('１級・元素記号'!K8='１級正解'!K8,\"〇\",\"×\")","v":"×"},{"$f":"IF('１級・元素記号'!L8='１級正解'!L8,\"〇\",\"×\")","v":"×"},{"$f":"IF('１級・元素記号'!M8='１級正解'!M8,\"〇\",\"×\")","v":"×"},{"$f":"IF('１級・元素記号'!N8='１級正解'!N8,\"〇\",\"×\")","v":"×"},{"$f":"IF('１級・元素記号'!O8='１級正解'!O8,\"〇\",\"×\")","v":"×"},{"$f":"IF('１級・元素記号'!P8='１級正解'!P8,\"〇\",\"×\")","v":"×"},{"$f":"IF('１級・元素記号'!Q8='１級正解'!Q8,\"〇\",\"×\")","v":"×"},{"$f":"IF('１級・元素記号'!R8='１級正解'!R8,\"〇\",\"×\")","v":"×"},{"$f":"IF('１級・元素記号'!S8='１級正解'!S8,\"〇\",\"×\")","v":"×"},{"$f":"IF('１級・元素記号'!T8='１級正解'!T8,\"〇\",\"×\")","v":"×"}]
[null,7,{"$f":"IF('１級・元素記号'!C9='１級正解'!C9,\"〇\",\"×\")","v":"×"},{"$f":"IF('１級・元素記号'!D9='１級正解'!D9,\"〇\",\"×\")","v":"×"},"アクチノイド",{"$f":"IF('１級・元素記号'!F9='１級正解'!F9,\"〇\",\"×\")","v":"×"},{"$f":"IF('１級・元素記号'!G9='１級正解'!G9,\"〇\",\"×\")","v":"×"},{"$f":"IF('１級・元素記号'!H9='１級正解'!H9,\"〇\",\"×\")","v":"×"},{"$f":"IF('１級・元素記号'!I9='１級正解'!I9,\"〇\",\"×\")","v":"×"},{"$f":"IF('１級・元素記号'!J9='１級正解'!J9,\"〇\",\"×\")","v":"×"},{"$f":"IF('１級・元素記号'!K9='１級正解'!K9,\"〇\",\"×\")","v":"×"},{"$f":"IF('１級・元素記号'!L9='１級正解'!L9,\"〇\",\"×\")","v":"×"},{"$f":"IF('１級・元素記号'!M9='１級正解'!M9,\"〇\",\"×\")","v":"×"},{"$f":"IF('１級・元素記号'!N9='１級正解'!N9,\"〇\",\"×\")","v":"×"},{"$f":"IF('１級・元素記号'!O9='１級正解'!O9,\"〇\",\"×\")","v":"×"},{"$f":"IF('１級・元素記号'!P9='１級正解'!P9,\"〇\",\"×\")","v":"×"},{"$f":"IF('１級・元素記号'!Q9='１級正解'!Q9,\"〇\",\"×\")","v":"×"},{"$f":"IF('１級・元素記号'!R9='１級正解'!R9,\"〇\",\"×\")","v":"×"},{"$f":"IF('１級・元素記号'!S9='１級正解'!S9,\"〇\",\"×\")","v":"×"},{"$f":"IF('１級・元素記号'!T9='１級正解'!T9,\"〇\",\"×\")","v":"×"}]
[]
[null,null,"ランタノイド",null,{"$f":"IF('１級・元素記号'!E11='１級正解'!E11,\"〇\",\"×\")","v":"×"},{"$f":"IF('１級・元素記号'!F11='１級正解'!F11,\"〇\",\"×\")","v":"×"},{"$f":"IF('１級・元素記号'!G11='１級正解'!G11,\"〇\",\"×\")","v":"×"},{"$f":"IF('１級・元素記号'!H11='１級正解'!H11,\"〇\",\"×\")","v":"×"},{"$f":"IF('１級・元素記号'!I11='１級正解'!I11,\"〇\",\"×\")","v":"×"},{"$f":"IF('１級・元素記号'!J11='１級正解'!J11,\"〇\",\"×\")","v":"×"},{"$f":"IF('１級・元素記号'!K11='１級正解'!K11,\"〇\",\"×\")","v":"×"},{"$f":"IF('１級・元素記号'!L11='１級正解'!L11,\"〇\",\"×\")","v":"×"},{"$f":"IF('１級・元素記号'!M11='１級正解'!M11,\"〇\",\"×\")","v":"×"},{"$f":"IF('１級・元素記号'!N11='１級正解'!N11,\"〇\",\"×\")","v":"×"},{"$f":"IF('１級・元素記号'!O11='１級正解'!O11,\"〇\",\"×\")","v":"×"},{"$f":"IF('１級・元素記号'!P11='１級正解'!P11,\"〇\",\"×\")","v":"×"},{"$f":"IF('１級・元素記号'!Q11='１級正解'!Q11,\"〇\",\"×\")","v":"×"},{"$f":"IF('１級・元素記号'!R11='１級正解'!R11,\"〇\",\"×\")","v":"×"},{"$f":"IF('１級・元素記号'!S11='１級正解'!S11,\"〇\",\"×\")","v":"×"}]
[null,null,"アクチノイド",null,{"$f":"IF('１級・元素記号'!E12='１級正解'!E12,\"〇\",\"×\")","v":"×"},{"$f":"IF('１級・元素記号'!F12='１級正解'!F12,\"〇\",\"×\")","v":"×"},{"$f":"IF('１級・元素記号'!G12='１級正解'!G12,\"〇\",\"×\")","v":"×"},{"$f":"IF('１級・元素記号'!H12='１級正解'!H12,\"〇\",\"×\")","v":"×"},{"$f":"IF('１級・元素記号'!I12='１級正解'!I12,\"〇\",\"×\")","v":"×"},{"$f":"IF('１級・元素記号'!J12='１級正解'!J12,\"〇\",\"×\")","v":"×"},{"$f":"IF('１級・元素記号'!K12='１級正解'!K12,\"〇\",\"×\")","v":"×"},{"$f":"IF('１級・元素記号'!L12='１級正解'!L12,\"〇\",\"×\")","v":"×"},{"$f":"IF('１級・元素記号'!M12='１級正解'!M12,\"〇\",\"×\")","v":"×"},{"$f":"IF('１級・元素記号'!N12='１級正解'!N12,\"〇\",\"×\")","v":"×"},{"$f":"IF('１級・元素記号'!O12='１級正解'!O12,\"〇\",\"×\")","v":"×"},{"$f":"IF('１級・元素記号'!P12='１級正解'!P12,\"〇\",\"×\")","v":"×"},{"$f":"IF('１級・元素記号'!Q12='１級正解'!Q12,\"〇\",\"×\")","v":"×"},{"$f":"IF('１級・元素記号'!R12='１級正解'!R12,\"〇\",\"×\")","v":"×"},{"$f":"IF('１級・元素記号'!S12='１級正解'!S12,\"〇\",\"×\")","v":"×"}]
[]
[]
[null,null,1,2,3,4,5,6,7,8,9,10,11,12,13,14,15,16,17,18]
[null,1,"H",null,null,null,null,null,null,null,null,null,null,null,null,null,null,null,null,"He"]
[null,2,"Li","Be",null,null,null,null,null,null,null,null,null,null,"B","C","N","O","F","Ne"]
[null,3,"Na","Mg",null,null,null,null,null,null,null,null,null,null,"Al","Si","P","S","Cl","Ar"]
[null,4,"K","Ca","Sc","Ti","V","Cr","Mn","Fe","Co","Ni","Cu","Zn","Ga","Ge","As","Se","Br","Kr"]
[null,5,"Rb","Sr","Y","Zr","Nb","Mo","Tc","Ru","Rh","Pd","Ag","Cd","In","Sn","Sb","Te","I","Xe"]
[null,6,"Cs","Ba","ランタノイド","Hf","Ta","W","Re","Os","Ir","Pt","Au","Hg","Tl","Pb","Bi","Po","At","Rn"]
[null,7,"Fr","Ra","アクチノイド","Rf","Db","Sg","Bh","Hs","Mt","Ds","Rg","Cn","Nh","Fl","Mc","Lv","Ts","Og"]
[]
[null,null,"ランタノイド",null,"La","Ce","Pr","Nd","Pm","Sm","Eu","Gd","Tb","Dy","Ho","Er","Tm","Yb","Lu"]
[null,null,"アクチノイド",null,"Ac","Th","Pa","U","Np","Pu","Am","Cm","Bk","Cf","Es","Fm","Md","No","Lr"]